BEGIN:VCALENDAR
VERSION:2.0
PRODID:-//The Boot - ECPv6.15.4//NONSGML v1.0//EN
CALSCALE:GREGORIAN
METHOD:PUBLISH
X-ORIGINAL-URL:https://thefrestonboot.co.uk
X-WR-CALDESC:Events for The Boot
REFRESH-INTERVAL;VALUE=DURATION:PT1H
X-Robots-Tag:noindex
X-PUBLISHED-TTL:PT1H
BEGIN:VTIMEZONE
TZID:Europe/Paris
BEGIN:DAYLIGHT
TZOFFSETFROM:+0100
TZOFFSETTO:+0200
TZNAME:CEST
DTSTART:20250330T010000
END:DAYLIGHT
BEGIN:STANDARD
TZOFFSETFROM:+0200
TZOFFSETTO:+0100
TZNAME:CET
DTSTART:20251026T010000
END:STANDARD
END:VTIMEZONE
BEGIN:VEVENT
DTSTART;TZID=Europe/Paris:20250403T100000
DTEND;TZID=Europe/Paris:20250403T120000
DTSTAMP:20260420T095232
CREATED:20250313T124744Z
LAST-MODIFIED:20250313T124744Z
UID:2716-1743674400-1743681600@thefrestonboot.co.uk
SUMMARY:The Mum Club South Suffolk - The Sleep Edition
DESCRIPTION:We are delighted to be hosting The Mum Club – The Sleep Edition this April! \nTwo hours dedicated to YOU and to building new friendships and gaining new knowledge from our amazing guest speakers. Immerse yourself in a relaxed atmosphere filled with delicious hot drinks\, pastries or cakes\, and meaningful conversations with other like minded mums. Tacha from The Mum Club is thrilled to welcome Kerry from \’The Sleep Nanny\’ as the guest speaker. With over 15 years experience in working and supporting families in early years\, Kerry is here to share her wisdom on the emotional and physical impact lack of sleep has on children and a family as a whole\, and how to empower us to resolve the sleepless nights and turn them into blissful dreams! Everyone deserves sleep\, but especially us mums and our little ones! \nTickets includes:\n– Tea or coffee\n– Delicious cakes or pastry\n– The opportunity to meet and connect with like-minded mums!\n-And the chance to get some much needed sleep advice (Crucial!)\nAll mums are welcome!\nExpectant mums\, mums with baby in arm\, mums with a toddler\, mums who bring their friends along or mum who attends alone\, we all sit together! \nBook your tickets here \n*Please note: All tickets are non-refundable and non-transferable.*
URL:https://thefrestonboot.co.uk/event/the-mum-club-south-suffolk-the-sleep-edition/
ATTACH;FMTTYPE=image/jpeg:https://thefrestonboot.co.uk/wp-content/uploads/2025/03/WhatsApp-Image-2025-03-13-at-12.40.35.jpeg
END:VEVENT
END:VCALENDAR