BEGIN:VCALENDAR
VERSION:2.0
PRODID:-//The Boot - ECPv6.15.4//NONSGML v1.0//EN
CALSCALE:GREGORIAN
METHOD:PUBLISH
X-ORIGINAL-URL:https://thefrestonboot.co.uk
X-WR-CALDESC:Events for The Boot
REFRESH-INTERVAL;VALUE=DURATION:PT1H
X-Robots-Tag:noindex
X-PUBLISHED-TTL:PT1H
BEGIN:VTIMEZONE
TZID:Europe/Paris
BEGIN:DAYLIGHT
TZOFFSETFROM:+0100
TZOFFSETTO:+0200
TZNAME:CEST
DTSTART:20250330T010000
END:DAYLIGHT
BEGIN:STANDARD
TZOFFSETFROM:+0200
TZOFFSETTO:+0100
TZNAME:CET
DTSTART:20251026T010000
END:STANDARD
END:VTIMEZONE
BEGIN:VEVENT
DTSTART;TZID=Europe/Paris:20250802T150000
DTEND;TZID=Europe/Paris:20250802T170000
DTSTAMP:20260420T053304
CREATED:20250604T094641Z
LAST-MODIFIED:20250604T094641Z
UID:2853-1754146800-1754154000@thefrestonboot.co.uk
SUMMARY:Live Music from Ash Carr
DESCRIPTION:Kicking off our Live Music sessions in the garden this August is Suffolk based Singer Songwriter\, Ash Carr!  \nBringing us his unique and original sound with evocative vocals and a mix of folk\, pop and R and B influences.  This is one not to miss
URL:https://thefrestonboot.co.uk/event/live-music-from-ash-carr/
LOCATION:The Boot\, The Freston Boot\, Freston\, Suffolk\, IP9 1AB\, United Kingdom
CATEGORIES:Events
ATTACH;FMTTYPE=image/png:https://thefrestonboot.co.uk/wp-content/uploads/2025/06/Screenshot-2025-06-04-at-10.45.25.png
END:VEVENT
BEGIN:VEVENT
DTSTART;TZID=Europe/Paris:20250809T150000
DTEND;TZID=Europe/Paris:20250809T170000
DTSTAMP:20260420T053304
CREATED:20250604T094903Z
LAST-MODIFIED:20250604T094903Z
UID:2856-1754751600-1754758800@thefrestonboot.co.uk
SUMMARY:Live Music from Bella Ross
DESCRIPTION:Just 17 years old\, this talented local Singer-Songwriter is set to bring soulful energy and original tunes to our pub garden.  \nAs seen on The Inbetweeners Teen Stage at Lattitude Festival 2024!
URL:https://thefrestonboot.co.uk/event/live-music-from-bella-ross/
LOCATION:The Boot\, The Freston Boot\, Freston\, Suffolk\, IP9 1AB\, United Kingdom
CATEGORIES:Events
ATTACH;FMTTYPE=image/png:https://thefrestonboot.co.uk/wp-content/uploads/2025/06/Screenshot-2025-06-04-at-10.47.18.png
END:VEVENT
BEGIN:VEVENT
DTSTART;TZID=Europe/Paris:20250823T150000
DTEND;TZID=Europe/Paris:20250823T170000
DTSTAMP:20260420T053304
CREATED:20250604T100239Z
LAST-MODIFIED:20250604T100318Z
UID:2859-1755961200-1755968400@thefrestonboot.co.uk
SUMMARY:Live Music from Bethany Hurry
DESCRIPTION:Join us for the beautiful sounds of Bethany Hurry\, set in our pub garden. \nThis promises to be a perfect afternoon to soak up the sunshine and enjoy the relaxed vibes that Bethany offers.
URL:https://thefrestonboot.co.uk/event/live-music-from-bethany-hurry/
LOCATION:The Boot\, The Freston Boot\, Freston\, Suffolk\, IP9 1AB\, United Kingdom
CATEGORIES:Events
ATTACH;FMTTYPE=image/png:https://thefrestonboot.co.uk/wp-content/uploads/2025/06/Screenshot-2025-06-04-at-11.00.20.png
END:VEVENT
BEGIN:VEVENT
DTSTART;TZID=Europe/Paris:20250830T150000
DTEND;TZID=Europe/Paris:20250830T170000
DTSTAMP:20260420T053304
CREATED:20250801T160642Z
LAST-MODIFIED:20250801T161505Z
UID:3284-1756566000-1756573200@thefrestonboot.co.uk
SUMMARY:Live Music from Adam Thomas
DESCRIPTION:Enjoy a live performance from Ipswich Singer-Songwriter Adam Thomas this afternoon in our relaxed and spacious pub garden.    \nAdam has supported the likes of Natasha Bedingfield\, Melanie C\, Jessie Ware\, Lucy Spraggan\, East 17 & more! \nThis promises to be a perfect afternoon to soak up the sunshine and enjoy Adam’s amazing talents.
URL:https://thefrestonboot.co.uk/event/live-music-from-adam-thomas/
LOCATION:The Boot\, The Freston Boot\, Freston\, Suffolk\, IP9 1AB\, United Kingdom
CATEGORIES:Events
ATTACH;FMTTYPE=image/png:https://thefrestonboot.co.uk/wp-content/uploads/2025/08/Screenshot-2025-04-30-at-12.50.50.png
END:VEVENT
END:VCALENDAR