BEGIN:VCALENDAR
VERSION:2.0
PRODID:-//The Boot - ECPv6.15.4//NONSGML v1.0//EN
CALSCALE:GREGORIAN
METHOD:PUBLISH
X-ORIGINAL-URL:https://thefrestonboot.co.uk
X-WR-CALDESC:Events for The Boot
REFRESH-INTERVAL;VALUE=DURATION:PT1H
X-Robots-Tag:noindex
X-PUBLISHED-TTL:PT1H
BEGIN:VTIMEZONE
TZID:Europe/Paris
BEGIN:DAYLIGHT
TZOFFSETFROM:+0100
TZOFFSETTO:+0200
TZNAME:CEST
DTSTART:20250330T010000
END:DAYLIGHT
BEGIN:STANDARD
TZOFFSETFROM:+0200
TZOFFSETTO:+0100
TZNAME:CET
DTSTART:20251026T010000
END:STANDARD
END:VTIMEZONE
BEGIN:VEVENT
DTSTART;TZID=Europe/Paris:20251115T120000
DTEND;TZID=Europe/Paris:20251115T140000
DTSTAMP:20260419T210635
CREATED:20250819T134444Z
LAST-MODIFIED:20250911T090536Z
UID:3418-1763208000-1763215200@thefrestonboot.co.uk
SUMMARY:Elsa and Olaf Picnic Lunch
DESCRIPTION:Join us in our winter wonderland with Elsa and Olaf!  \nGet yourself over to our tipi to enjoy a picnic lunch along with some storytelling and magical dance moves! \nAll children’s tickets include a packed lunch. \nAccompanying adults are welcome to order food and drinks on the day. \nBook your tickets here – spaces are limited \n 
URL:https://thefrestonboot.co.uk/event/elsa-and-olaf-picnic-lunch/
LOCATION:The Boot\, The Freston Boot\, Freston\, Suffolk\, IP9 1AB\, United Kingdom
CATEGORIES:Christmas Kids,Events
ATTACH;FMTTYPE=image/png:https://thefrestonboot.co.uk/wp-content/uploads/2025/08/Screenshot-2025-08-19-at-14.42.05.png
END:VEVENT
END:VCALENDAR