BEGIN:VCALENDAR
VERSION:2.0
PRODID:-//The Boot - ECPv6.15.4//NONSGML v1.0//EN
CALSCALE:GREGORIAN
METHOD:PUBLISH
X-WR-CALNAME:The Boot
X-ORIGINAL-URL:https://thefrestonboot.co.uk
X-WR-CALDESC:Events for The Boot
REFRESH-INTERVAL;VALUE=DURATION:PT1H
X-Robots-Tag:noindex
X-PUBLISHED-TTL:PT1H
BEGIN:VTIMEZONE
TZID:Europe/Paris
BEGIN:DAYLIGHT
TZOFFSETFROM:+0100
TZOFFSETTO:+0200
TZNAME:CEST
DTSTART:20250330T010000
END:DAYLIGHT
BEGIN:STANDARD
TZOFFSETFROM:+0200
TZOFFSETTO:+0100
TZNAME:CET
DTSTART:20251026T010000
END:STANDARD
END:VTIMEZONE
BEGIN:VEVENT
DTSTART;TZID=Europe/Paris:20250226T120000
DTEND;TZID=Europe/Paris:20250226T143000
DTSTAMP:20260422T045435
CREATED:20250123T125328Z
LAST-MODIFIED:20250123T125328Z
UID:2563-1740571200-1740580200@thefrestonboot.co.uk
SUMMARY:Bluebell Wood Painting with Funky Easel
DESCRIPTION:Join us for a guided painting session with Funky Easel! \nThis session will feature a stunning Bluebell Woodland picture for you to recreate and proudly place in your own home. \nAll tickets include the guided session with Rebecca\, a hot or soft drink with 15% off any food ordered during the session. \nBook your place here \nIf you have any questions\, please email events@thefrestonboot.co.uk
URL:https://thefrestonboot.co.uk/event/bluebell-wood-painting-with-funky-easel/
ATTACH;FMTTYPE=image/png:https://thefrestonboot.co.uk/wp-content/uploads/2025/01/Funky-Easel-Painting.png
END:VEVENT
END:VCALENDAR