BEGIN:VCALENDAR
VERSION:2.0
PRODID:-//The Boot - ECPv6.15.4//NONSGML v1.0//EN
CALSCALE:GREGORIAN
METHOD:PUBLISH
X-WR-CALNAME:The Boot
X-ORIGINAL-URL:https://thefrestonboot.co.uk
X-WR-CALDESC:Events for The Boot
REFRESH-INTERVAL;VALUE=DURATION:PT1H
X-Robots-Tag:noindex
X-PUBLISHED-TTL:PT1H
BEGIN:VTIMEZONE
TZID:Europe/Paris
BEGIN:DAYLIGHT
TZOFFSETFROM:+0100
TZOFFSETTO:+0200
TZNAME:CEST
DTSTART:20250330T010000
END:DAYLIGHT
BEGIN:STANDARD
TZOFFSETFROM:+0200
TZOFFSETTO:+0100
TZNAME:CET
DTSTART:20251026T010000
END:STANDARD
END:VTIMEZONE
BEGIN:VEVENT
DTSTART;TZID=Europe/Paris:20250823T150000
DTEND;TZID=Europe/Paris:20250823T170000
DTSTAMP:20260420T015100
CREATED:20250604T100239Z
LAST-MODIFIED:20250604T100318Z
UID:2859-1755961200-1755968400@thefrestonboot.co.uk
SUMMARY:Live Music from Bethany Hurry
DESCRIPTION:Join us for the beautiful sounds of Bethany Hurry\, set in our pub garden. \nThis promises to be a perfect afternoon to soak up the sunshine and enjoy the relaxed vibes that Bethany offers.
URL:https://thefrestonboot.co.uk/event/live-music-from-bethany-hurry/
LOCATION:The Boot\, The Freston Boot\, Freston\, Suffolk\, IP9 1AB\, United Kingdom
CATEGORIES:Events
ATTACH;FMTTYPE=image/png:https://thefrestonboot.co.uk/wp-content/uploads/2025/06/Screenshot-2025-06-04-at-11.00.20.png
END:VEVENT
END:VCALENDAR