BEGIN:VCALENDAR
VERSION:2.0
PRODID:-//The Boot - ECPv6.15.4//NONSGML v1.0//EN
CALSCALE:GREGORIAN
METHOD:PUBLISH
X-ORIGINAL-URL:https://thefrestonboot.co.uk
X-WR-CALDESC:Events for The Boot
REFRESH-INTERVAL;VALUE=DURATION:PT1H
X-Robots-Tag:noindex
X-PUBLISHED-TTL:PT1H
BEGIN:VTIMEZONE
TZID:Europe/Paris
BEGIN:DAYLIGHT
TZOFFSETFROM:+0100
TZOFFSETTO:+0200
TZNAME:CEST
DTSTART:20240331T010000
END:DAYLIGHT
BEGIN:STANDARD
TZOFFSETFROM:+0200
TZOFFSETTO:+0100
TZNAME:CET
DTSTART:20241027T010000
END:STANDARD
END:VTIMEZONE
BEGIN:VEVENT
DTSTART;TZID=Europe/Paris:20240301T110000
DTEND;TZID=Europe/Paris:20240303T210000
DTSTAMP:20260420T120000
CREATED:20231230T114206Z
LAST-MODIFIED:20231230T114206Z
UID:1434-1709290800-1709499600@thefrestonboot.co.uk
SUMMARY:St Davids - A Weekend of Celebrating Welsh Culture and Food
DESCRIPTION:Celebrate the British Patron Saints with us like never before. A focus on great food and stories and music. \nStarting us of is St David\, the Patron Saint of Wales. \nEnjoying a weekend of Welsh Food\, Music and Culture titbits. \nIt culminates in a Welsh spin on the Great British Roast. \nBook Now
URL:https://thefrestonboot.co.uk/event/st-davids-a-weekend-of-celebrating-welsh-culture-and-food/
LOCATION:The Boot\, The Freston Boot\, Freston\, Suffolk\, IP9 1AB\, United Kingdom
ATTACH;FMTTYPE=image/png:https://thefrestonboot.co.uk/wp-content/uploads/2023/12/st-davids-weekend.png
END:VEVENT
BEGIN:VEVENT
DTSTART;TZID=Europe/Paris:20240314T130000
DTEND;TZID=Europe/Paris:20240317T220000
DTSTAMP:20260420T120000
CREATED:20240302T141200Z
LAST-MODIFIED:20240302T141200Z
UID:1521-1710421200-1710712800@thefrestonboot.co.uk
SUMMARY:St Patrick's Weekend
DESCRIPTION:Come and join us in celebrating the food of Irland and celebrate St Patrick with us from the 14th of March till the 17th. \nWe are running a two or three-course set menu from Thursday through to Saturday and have a themed Irish Roast option alongside our current selection.
URL:https://thefrestonboot.co.uk/event/st-patricks-weekend/
LOCATION:The Boot\, The Freston Boot\, Freston\, Suffolk\, IP9 1AB\, United Kingdom
ATTACH;FMTTYPE=image/png:https://thefrestonboot.co.uk/wp-content/uploads/2024/03/Happy-St.-Patricks-Weekender-website-poster.png
END:VEVENT
END:VCALENDAR