BEGIN:VCALENDAR
VERSION:2.0
PRODID:-//The Boot - ECPv6.15.4//NONSGML v1.0//EN
CALSCALE:GREGORIAN
METHOD:PUBLISH
X-ORIGINAL-URL:https://thefrestonboot.co.uk
X-WR-CALDESC:Events for The Boot
REFRESH-INTERVAL;VALUE=DURATION:PT1H
X-Robots-Tag:noindex
X-PUBLISHED-TTL:PT1H
BEGIN:VTIMEZONE
TZID:Europe/Paris
BEGIN:DAYLIGHT
TZOFFSETFROM:+0100
TZOFFSETTO:+0200
TZNAME:CEST
DTSTART:20240331T010000
END:DAYLIGHT
BEGIN:STANDARD
TZOFFSETFROM:+0200
TZOFFSETTO:+0100
TZNAME:CET
DTSTART:20241027T010000
END:STANDARD
END:VTIMEZONE
BEGIN:VEVENT
DTSTART;TZID=Europe/Paris:20240214T180000
DTEND;TZID=Europe/Paris:20240214T233000
DTSTAMP:20260420T132909
CREATED:20231229T174016Z
LAST-MODIFIED:20231230T114958Z
UID:1427-1707933600-1707953400@thefrestonboot.co.uk
SUMMARY:Valentines Night at The Freston Boot
DESCRIPTION:Come and enjoy a loving night of food and drink at The Freston Boot. \nA 5-course dinner and a glass of Prosecco for £40 per person; upgrade your glass to a bottle of Organic or Pink Prosecco for £15 per couple. \nLimited space so book now by emailing; \nbookings@thefrestonboot.co.uk \ndeposit required\, vegan and gluten-free options available.
URL:https://thefrestonboot.co.uk/event/valentines-night-at-the-freston-boot/
LOCATION:The Boot\, The Freston Boot\, Freston\, Suffolk\, IP9 1AB\, United Kingdom
ATTACH;FMTTYPE=image/png:https://thefrestonboot.co.uk/wp-content/uploads/2023/12/Valentines-Poster-A4.png
END:VEVENT
END:VCALENDAR