BEGIN:VCALENDAR
VERSION:2.0
PRODID:-//The Boot - ECPv6.15.4//NONSGML v1.0//EN
CALSCALE:GREGORIAN
METHOD:PUBLISH
X-WR-CALNAME:The Boot
X-ORIGINAL-URL:https://thefrestonboot.co.uk
X-WR-CALDESC:Events for The Boot
REFRESH-INTERVAL;VALUE=DURATION:PT1H
X-Robots-Tag:noindex
X-PUBLISHED-TTL:PT1H
BEGIN:VTIMEZONE
TZID:Europe/Paris
BEGIN:DAYLIGHT
TZOFFSETFROM:+0100
TZOFFSETTO:+0200
TZNAME:CEST
DTSTART:20240331T010000
END:DAYLIGHT
BEGIN:STANDARD
TZOFFSETFROM:+0200
TZOFFSETTO:+0100
TZNAME:CET
DTSTART:20241027T010000
END:STANDARD
BEGIN:DAYLIGHT
TZOFFSETFROM:+0100
TZOFFSETTO:+0200
TZNAME:CEST
DTSTART:20250330T010000
END:DAYLIGHT
BEGIN:STANDARD
TZOFFSETFROM:+0200
TZOFFSETTO:+0100
TZNAME:CET
DTSTART:20251026T010000
END:STANDARD
END:VTIMEZONE
BEGIN:VEVENT
DTSTART;TZID=Europe/Paris:20250114T120000
DTEND;TZID=Europe/Paris:20250118T210000
DTSTAMP:20260420T232227
CREATED:20241211T185456Z
LAST-MODIFIED:20241211T185456Z
UID:2473-1736856000-1737234000@thefrestonboot.co.uk
SUMMARY:Veganuary
DESCRIPTION:To celebrate Veganuary\, our chef will be cooking up some delicious dishes using plant based ingredients. \nUsing fresh produce from our very own kitchen garden\, we know our chefs will cook up a treat! \nBook your table any time between Tuesday lunchtime and Saturday evening to enjoy one of our Special dishes featuring for this week in January only!
URL:https://thefrestonboot.co.uk/event/veganuary/
ATTACH;FMTTYPE=image/jpeg:https://thefrestonboot.co.uk/wp-content/uploads/2024/12/Veganuary-Post.jpg
END:VEVENT
BEGIN:VEVENT
DTSTART;VALUE=DATE:20250108
DTEND;VALUE=DATE:20250109
DTSTAMP:20260420T232227
CREATED:20241227T165859Z
LAST-MODIFIED:20250116T121416Z
UID:2503-1736294400-1736380799@thefrestonboot.co.uk
SUMMARY:Wednesday Pie Night
DESCRIPTION:Enjoy our delicious ‘pie of the moment’ plus a selected drink for just £18.50. \nAvailable on Wednesday’s only\, its a perfect mid-week pick me up. \nEmail bookings@thefrestonboot.co.uk to book your table 
URL:https://thefrestonboot.co.uk/event/pie-night-2/
ATTACH;FMTTYPE=image/png:https://thefrestonboot.co.uk/wp-content/uploads/2024/11/Pie-and-burger-deal-1.png
END:VEVENT
BEGIN:VEVENT
DTSTART;TZID=Europe/Paris:20241107T120000
DTEND;TZID=Europe/Paris:20241107T210000
DTSTAMP:20260420T232227
CREATED:20241105T151344Z
LAST-MODIFIED:20241105T151429Z
UID:2337-1730980800-1731013200@thefrestonboot.co.uk
SUMMARY:Thursday is Burgers
DESCRIPTION:Thursday is for our Burgers! \nOn Thursdays only enjoy one of our burgers and a selected drink for £18.50. \nEmail bookings@thefrestonboot.co.uk to book your table \n 
URL:https://thefrestonboot.co.uk/event/thursday-is-burgers/
ATTACH;FMTTYPE=image/png:https://thefrestonboot.co.uk/wp-content/uploads/2024/11/Pie-and-burger-deal-2.png
END:VEVENT
BEGIN:VEVENT
DTSTART;VALUE=DATE:20250108
DTEND;VALUE=DATE:20250109
DTSTAMP:20260420T232227
CREATED:20241227T165859Z
LAST-MODIFIED:20250116T121416Z
UID:2503-1736294400-1736380799@thefrestonboot.co.uk
SUMMARY:Wednesday Pie Night
DESCRIPTION:Enjoy our delicious ‘pie of the moment’ plus a selected drink for just £18.50. \nAvailable on Wednesday’s only\, its a perfect mid-week pick me up. \nEmail bookings@thefrestonboot.co.uk to book your table 
URL:https://thefrestonboot.co.uk/event/pie-night-2/
ATTACH;FMTTYPE=image/png:https://thefrestonboot.co.uk/wp-content/uploads/2024/11/Pie-and-burger-deal-1.png
END:VEVENT
BEGIN:VEVENT
DTSTART;TZID=Europe/Paris:20241107T120000
DTEND;TZID=Europe/Paris:20241107T210000
DTSTAMP:20260420T232227
CREATED:20241105T151344Z
LAST-MODIFIED:20241105T151429Z
UID:2337-1730980800-1731013200@thefrestonboot.co.uk
SUMMARY:Thursday is Burgers
DESCRIPTION:Thursday is for our Burgers! \nOn Thursdays only enjoy one of our burgers and a selected drink for £18.50. \nEmail bookings@thefrestonboot.co.uk to book your table \n 
URL:https://thefrestonboot.co.uk/event/thursday-is-burgers/
ATTACH;FMTTYPE=image/png:https://thefrestonboot.co.uk/wp-content/uploads/2024/11/Pie-and-burger-deal-2.png
END:VEVENT
BEGIN:VEVENT
DTSTART;TZID=Europe/Paris:20250124T190000
DTEND;TZID=Europe/Paris:20250124T220000
DTSTAMP:20260420T232227
CREATED:20241211T190200Z
LAST-MODIFIED:20250121T190034Z
UID:2477-1737745200-1737756000@thefrestonboot.co.uk
SUMMARY:Burns Weekend
DESCRIPTION:Back by popular demand\, we’re celebrating Robert Burns\, with a Burns Weekend. Filling our specials menu with traditional Scottish dishes. \nWe’re launching the weekend with an evening of Scottish entertainment with a traditional piper and readings of Robert Burns’s poems\, particularly The ‘Address To The Haggis.’ \nThe evening will be full of traditional Scottish fun to celebrate Robert Burn’s birthday in style\, and your best tartan outfits are most welcome. \nBook a table Friday from 17:30 onwards to enjoy this fabulous evening and entertainment from 19:00. \nSaturday specials menu available from 12:00 all day till 20:45 last food orders or whilst stocks last.
URL:https://thefrestonboot.co.uk/event/burns-night/
ATTACH;FMTTYPE=image/png:https://thefrestonboot.co.uk/wp-content/uploads/2025/01/Burns-weekend.png
END:VEVENT
BEGIN:VEVENT
DTSTART;VALUE=DATE:20250108
DTEND;VALUE=DATE:20250109
DTSTAMP:20260420T232227
CREATED:20241227T165859Z
LAST-MODIFIED:20250116T121416Z
UID:2503-1736294400-1736380799@thefrestonboot.co.uk
SUMMARY:Wednesday Pie Night
DESCRIPTION:Enjoy our delicious ‘pie of the moment’ plus a selected drink for just £18.50. \nAvailable on Wednesday’s only\, its a perfect mid-week pick me up. \nEmail bookings@thefrestonboot.co.uk to book your table 
URL:https://thefrestonboot.co.uk/event/pie-night-2/
ATTACH;FMTTYPE=image/png:https://thefrestonboot.co.uk/wp-content/uploads/2024/11/Pie-and-burger-deal-1.png
END:VEVENT
BEGIN:VEVENT
DTSTART;TZID=Europe/Paris:20241107T120000
DTEND;TZID=Europe/Paris:20241107T210000
DTSTAMP:20260420T232227
CREATED:20241105T151344Z
LAST-MODIFIED:20241105T151429Z
UID:2337-1730980800-1731013200@thefrestonboot.co.uk
SUMMARY:Thursday is Burgers
DESCRIPTION:Thursday is for our Burgers! \nOn Thursdays only enjoy one of our burgers and a selected drink for £18.50. \nEmail bookings@thefrestonboot.co.uk to book your table \n 
URL:https://thefrestonboot.co.uk/event/thursday-is-burgers/
ATTACH;FMTTYPE=image/png:https://thefrestonboot.co.uk/wp-content/uploads/2024/11/Pie-and-burger-deal-2.png
END:VEVENT
BEGIN:VEVENT
DTSTART;VALUE=DATE:20250108
DTEND;VALUE=DATE:20250109
DTSTAMP:20260420T232227
CREATED:20241227T165859Z
LAST-MODIFIED:20250116T121416Z
UID:2503-1736294400-1736380799@thefrestonboot.co.uk
SUMMARY:Wednesday Pie Night
DESCRIPTION:Enjoy our delicious ‘pie of the moment’ plus a selected drink for just £18.50. \nAvailable on Wednesday’s only\, its a perfect mid-week pick me up. \nEmail bookings@thefrestonboot.co.uk to book your table 
URL:https://thefrestonboot.co.uk/event/pie-night-2/
ATTACH;FMTTYPE=image/png:https://thefrestonboot.co.uk/wp-content/uploads/2024/11/Pie-and-burger-deal-1.png
END:VEVENT
BEGIN:VEVENT
DTSTART;TZID=Europe/Paris:20250205T183000
DTEND;TZID=Europe/Paris:20250205T220000
DTSTAMP:20260420T232227
CREATED:20250116T154218Z
LAST-MODIFIED:20250116T154218Z
UID:2547-1738780200-1738792800@thefrestonboot.co.uk
SUMMARY:The Big Pub Quiz Relaunch
DESCRIPTION:Our classic pub quiz evenings are back! \nKicking off with a traditional general knowledge theme\, our quiz includes picture rounds\, sound rounds and good old traditional questions. \nEntry is free to anyone dining with us! \nShould you wish to join us just for the quiz\, entry is £2.00 per person. The quiz will begin at 8:00pm.
URL:https://thefrestonboot.co.uk/event/the-big-pub-quiz-relaunch/
CATEGORIES:Quiz
ATTACH;FMTTYPE=image/jpeg:https://thefrestonboot.co.uk/wp-content/uploads/2025/01/Pub-Quiz-Relaunch.jpg
END:VEVENT
BEGIN:VEVENT
DTSTART;TZID=Europe/Paris:20241107T120000
DTEND;TZID=Europe/Paris:20241107T210000
DTSTAMP:20260420T232227
CREATED:20241105T151344Z
LAST-MODIFIED:20241105T151429Z
UID:2337-1730980800-1731013200@thefrestonboot.co.uk
SUMMARY:Thursday is Burgers
DESCRIPTION:Thursday is for our Burgers! \nOn Thursdays only enjoy one of our burgers and a selected drink for £18.50. \nEmail bookings@thefrestonboot.co.uk to book your table \n 
URL:https://thefrestonboot.co.uk/event/thursday-is-burgers/
ATTACH;FMTTYPE=image/png:https://thefrestonboot.co.uk/wp-content/uploads/2024/11/Pie-and-burger-deal-2.png
END:VEVENT
BEGIN:VEVENT
DTSTART;VALUE=DATE:20250108
DTEND;VALUE=DATE:20250109
DTSTAMP:20260420T232227
CREATED:20241227T165859Z
LAST-MODIFIED:20250116T121416Z
UID:2503-1736294400-1736380799@thefrestonboot.co.uk
SUMMARY:Wednesday Pie Night
DESCRIPTION:Enjoy our delicious ‘pie of the moment’ plus a selected drink for just £18.50. \nAvailable on Wednesday’s only\, its a perfect mid-week pick me up. \nEmail bookings@thefrestonboot.co.uk to book your table 
URL:https://thefrestonboot.co.uk/event/pie-night-2/
ATTACH;FMTTYPE=image/png:https://thefrestonboot.co.uk/wp-content/uploads/2024/11/Pie-and-burger-deal-1.png
END:VEVENT
BEGIN:VEVENT
DTSTART;TZID=Europe/Paris:20241107T120000
DTEND;TZID=Europe/Paris:20241107T210000
DTSTAMP:20260420T232227
CREATED:20241105T151344Z
LAST-MODIFIED:20241105T151429Z
UID:2337-1730980800-1731013200@thefrestonboot.co.uk
SUMMARY:Thursday is Burgers
DESCRIPTION:Thursday is for our Burgers! \nOn Thursdays only enjoy one of our burgers and a selected drink for £18.50. \nEmail bookings@thefrestonboot.co.uk to book your table \n 
URL:https://thefrestonboot.co.uk/event/thursday-is-burgers/
ATTACH;FMTTYPE=image/png:https://thefrestonboot.co.uk/wp-content/uploads/2024/11/Pie-and-burger-deal-2.png
END:VEVENT
BEGIN:VEVENT
DTSTART;TZID=Europe/Paris:20250213T180000
DTEND;TZID=Europe/Paris:20250213T220000
DTSTAMP:20260420T232227
CREATED:20250116T153636Z
LAST-MODIFIED:20250206T134338Z
UID:2542-1739469600-1739484000@thefrestonboot.co.uk
SUMMARY:Galentines Movie Night – Dirty Dancing
DESCRIPTION:Celebrate Galentines with us and enjoy a 2 course meal and a showing of Dirty Dancing in our onsite cinema for £38.50pp. \nGet a group of friends together and celebrate Valentines\, or Galentines with this classic. \nPre orders will be requested ahead of the event from a set menu. The film is scheduled to begin at 8pm. \n\nFor any questions\, please email events@thefrestonboot.co.uk or give us a call. \nTickets can be purchased here
URL:https://thefrestonboot.co.uk/event/galentines-movie-nights-dirty-dancing/
CATEGORIES:In the Kino
ATTACH;FMTTYPE=image/jpeg:https://thefrestonboot.co.uk/wp-content/uploads/2025/01/Valentines-movie-night-Instagram-Post.jpg
END:VEVENT
BEGIN:VEVENT
DTSTART;TZID=Europe/Paris:20250214T063000
DTEND;TZID=Europe/Paris:20250214T220000
DTSTAMP:20260420T232227
CREATED:20241204T202536Z
LAST-MODIFIED:20241204T202536Z
UID:2408-1739514600-1739570400@thefrestonboot.co.uk
SUMMARY:Valentines Day
DESCRIPTION:Join us for a 5 course Valentines evening with live music performed by Ben Goble. \nWith our beautiful Suffolk pub backdrop\, it promises to be a romantic evening for any couple to enjoy. \nGive us a call\, book online or email events@thefrestonboot.co.uk to reserve your table.
URL:https://thefrestonboot.co.uk/event/valentines-day/
ATTACH;FMTTYPE=image/png:https://thefrestonboot.co.uk/wp-content/uploads/2024/12/Valentine-‘s-Day-Instagram-Post-1.png
END:VEVENT
BEGIN:VEVENT
DTSTART;TZID=Europe/Paris:20250215T180000
DTEND;TZID=Europe/Paris:20250215T220000
DTSTAMP:20260420T232227
CREATED:20250116T153759Z
LAST-MODIFIED:20250206T134311Z
UID:2544-1739642400-1739656800@thefrestonboot.co.uk
SUMMARY:Valentines Movie Nights – Grease
DESCRIPTION:Grease! Enjoy a 2 course meal and the all time favourite that is Grease in our onsite cinema for £38.50pp. \nGet a group of friends together and celebrate Valentines\, or Galentines with this classic. \nPre orders will be requested ahead of the event from a set menu. The film is scheduled to begin at 8pm. \nFor any questions\, please email events@thefrestonboot.co.uk or give us a call. \nTickets can be purchased here
URL:https://thefrestonboot.co.uk/event/valentines-movie-nights-grease/
CATEGORIES:In the Kino
ATTACH;FMTTYPE=image/jpeg:https://thefrestonboot.co.uk/wp-content/uploads/2025/01/Valentines-movie-night-Instagram-Post.jpg
END:VEVENT
BEGIN:VEVENT
DTSTART;VALUE=DATE:20250108
DTEND;VALUE=DATE:20250109
DTSTAMP:20260420T232227
CREATED:20241227T165859Z
LAST-MODIFIED:20250116T121416Z
UID:2503-1736294400-1736380799@thefrestonboot.co.uk
SUMMARY:Wednesday Pie Night
DESCRIPTION:Enjoy our delicious ‘pie of the moment’ plus a selected drink for just £18.50. \nAvailable on Wednesday’s only\, its a perfect mid-week pick me up. \nEmail bookings@thefrestonboot.co.uk to book your table 
URL:https://thefrestonboot.co.uk/event/pie-night-2/
ATTACH;FMTTYPE=image/png:https://thefrestonboot.co.uk/wp-content/uploads/2024/11/Pie-and-burger-deal-1.png
END:VEVENT
BEGIN:VEVENT
DTSTART;TZID=Europe/Paris:20250220T100000
DTEND;TZID=Europe/Paris:20250220T113000
DTSTAMP:20260420T232227
CREATED:20250130T103638Z
LAST-MODIFIED:20250205T122651Z
UID:2591-1740045600-1740051000@thefrestonboot.co.uk
SUMMARY:Moana Brunch
DESCRIPTION:Moana is coming to the Boot!  \nJoin us for a morning of fun and singing with The Wayfinder Princess herself. \nAll tickets include a kids Boot Brunch or Pancakes. Following your booking\, a payment link will be sent to secure your tickets. Accompanying adults are welcome to order food and drinks on the day. \nFollowing the success of Moana 2\, we hope your little ones will enjoy a morning with the Princess finding out about her adventures on the ocean. \nClick here to book your tickets
URL:https://thefrestonboot.co.uk/event/moana-brunch-2/
CATEGORIES:Events
ATTACH;FMTTYPE=image/png:https://thefrestonboot.co.uk/wp-content/uploads/2025/01/Princess-Brunch-Insta-Post.png
END:VEVENT
BEGIN:VEVENT
DTSTART;TZID=Europe/Paris:20241107T120000
DTEND;TZID=Europe/Paris:20241107T210000
DTSTAMP:20260420T232227
CREATED:20241105T151344Z
LAST-MODIFIED:20241105T151429Z
UID:2337-1730980800-1731013200@thefrestonboot.co.uk
SUMMARY:Thursday is Burgers
DESCRIPTION:Thursday is for our Burgers! \nOn Thursdays only enjoy one of our burgers and a selected drink for £18.50. \nEmail bookings@thefrestonboot.co.uk to book your table \n 
URL:https://thefrestonboot.co.uk/event/thursday-is-burgers/
ATTACH;FMTTYPE=image/png:https://thefrestonboot.co.uk/wp-content/uploads/2024/11/Pie-and-burger-deal-2.png
END:VEVENT
BEGIN:VEVENT
DTSTART;TZID=Europe/Paris:20250220T190000
DTEND;TZID=Europe/Paris:20250322T210000
DTSTAMP:20260420T232227
CREATED:20241211T215726Z
LAST-MODIFIED:20241211T215726Z
UID:2485-1740078000-1742677200@thefrestonboot.co.uk
SUMMARY:National Theatre Live - The Importance of being Earnest
DESCRIPTION:National Theatre Live 2025 and The Freston Kino present:\nThe Importance of being Earnest\nby Oscar Wilde\ndirected by Max Webster \nThree-time Olivier Award-winner Sharon D Clarke is joined by Ncuti Gatwa (Doctor Who;\nSex Education) in this joyful reimagining of Oscar Wilde’s most celebrated comedy. \nWhile assuming the role of a dutiful guardian in the country\, Jack lets loose in town under a\nfalse identity. Meanwhile\, his friend Algy adopts a similar facade. Hoping to impress two\neligible ladies\, the gentlemen find themselves caught in a web of lies they must carefully\nnavigate. Max Webster (Life of Pi) directs this hilarious story of identity\, impersonation and romance\,\nfilmed live from the National Theatre in London. \nTickets: \nAdult – £12.00 \nSenior or Junior – £10.00 \nWhy not try an experience of food and theatre\, 2 courses selected main and dessert\, a choice of selected drink and the presentation of The Importance of being Earnest – £35.00pp matinee / £38.00pp evening. Add a glass of Prosecco for £6.00pp
URL:https://thefrestonboot.co.uk/event/national-theatre-live-the-importance-of-being-earnest/
ATTACH;FMTTYPE=image/jpeg:https://thefrestonboot.co.uk/wp-content/uploads/2024/12/NTL-Importance-of-being-Earnest.jpg
END:VEVENT
BEGIN:VEVENT
DTSTART;TZID=Europe/Paris:20250221T100000
DTEND;TZID=Europe/Paris:20250221T113000
DTSTAMP:20260420T232227
CREATED:20241211T190903Z
LAST-MODIFIED:20241230T174939Z
UID:2480-1740132000-1740137400@thefrestonboot.co.uk
SUMMARY:Moana Brunch
DESCRIPTION:Moana is coming to the Boot!  \nJoin us for a morning of fun and singing with The Wayfinder Princess herself. \nAll tickets include a kids Boot Brunch or Pancakes. Following your booking\, a payment link will be sent to secure your tickets. Accompanying adults are welcome to order food and drinks on the day. \nFollowing the success of Moana 2\, we hope your little ones will enjoy a morning with the Princess finding out about her adventures on the ocean. \nBook Your Tickets
URL:https://thefrestonboot.co.uk/event/moana-brunch/
ATTACH;FMTTYPE=image/jpeg:https://thefrestonboot.co.uk/wp-content/uploads/2024/12/Moana-Brunch-Insta-Post.jpg
END:VEVENT
BEGIN:VEVENT
DTSTART;VALUE=DATE:20250108
DTEND;VALUE=DATE:20250109
DTSTAMP:20260420T232227
CREATED:20241227T165859Z
LAST-MODIFIED:20250116T121416Z
UID:2503-1736294400-1736380799@thefrestonboot.co.uk
SUMMARY:Wednesday Pie Night
DESCRIPTION:Enjoy our delicious ‘pie of the moment’ plus a selected drink for just £18.50. \nAvailable on Wednesday’s only\, its a perfect mid-week pick me up. \nEmail bookings@thefrestonboot.co.uk to book your table 
URL:https://thefrestonboot.co.uk/event/pie-night-2/
ATTACH;FMTTYPE=image/png:https://thefrestonboot.co.uk/wp-content/uploads/2024/11/Pie-and-burger-deal-1.png
END:VEVENT
BEGIN:VEVENT
DTSTART;TZID=Europe/Paris:20250226T120000
DTEND;TZID=Europe/Paris:20250226T143000
DTSTAMP:20260420T232227
CREATED:20250123T125328Z
LAST-MODIFIED:20250123T125328Z
UID:2563-1740571200-1740580200@thefrestonboot.co.uk
SUMMARY:Bluebell Wood Painting with Funky Easel
DESCRIPTION:Join us for a guided painting session with Funky Easel! \nThis session will feature a stunning Bluebell Woodland picture for you to recreate and proudly place in your own home. \nAll tickets include the guided session with Rebecca\, a hot or soft drink with 15% off any food ordered during the session. \nBook your place here \nIf you have any questions\, please email events@thefrestonboot.co.uk
URL:https://thefrestonboot.co.uk/event/bluebell-wood-painting-with-funky-easel/
ATTACH;FMTTYPE=image/png:https://thefrestonboot.co.uk/wp-content/uploads/2025/01/Funky-Easel-Painting.png
END:VEVENT
BEGIN:VEVENT
DTSTART;TZID=Europe/Paris:20250226T140000
DTEND;TZID=Europe/Paris:20250226T160000
DTSTAMP:20260420T232227
CREATED:20250218T115331Z
LAST-MODIFIED:20250219T100023Z
UID:2631-1740578400-1740585600@thefrestonboot.co.uk
SUMMARY:Cinema Live - Les Misérables The Staged Concert Live (40th Anniversary)
DESCRIPTION:Cinema Live 2025 and The Freston Kino present: \nLes Misérables The Staged Concert Live (40th Anniversary)\nDirected by: Nick Morris\, James Powell & Jean-Pierre Van Der Spuy; Music by: Claude-Michel Schonberg;  Lyrics by: Alain Boublil and Jean Marc Natel (translated by Herbert Kretzmer) \nTo mark the 40th anniversary of the world’s most popular musical\, a unique opportunity to experience the spectacular staged concert version on the big screen featuring an all-star cast including Michael Ball\, Alfie Boe\, Carrie Hope Fletcher\, Matt Lucas and John Owen Jones.\n\n\nWith a cast and orchestra of over 65 and including the songs I Dreamed A Dream\, Bring Him Home\, One Day More and On My Own this sensational staged concert is not to be missed.”\n\n\n\n\n  \nTickets: \nAdult – £12.00 \nSenior or Junior – £10.00 \nWhy not try an experience of food and theatre\, 2 courses selected main and dessert\, a choice of selected drink and the presentation of Les Misérables – £35.00pp matinee / £38.00pp evening. Add a glass of Prosecco for £6.00pp
URL:https://thefrestonboot.co.uk/event/cinema-live-les-miserables-the-staged-concert-live-40th-anniversary-2/
ATTACH;FMTTYPE=image/png:https://thefrestonboot.co.uk/wp-content/uploads/2025/02/LesMis_DigitalPoster_1080x1080_UK.png
END:VEVENT
BEGIN:VEVENT
DTSTART;TZID=Europe/Paris:20250226T190000
DTEND;TZID=Europe/Paris:20250226T210000
DTSTAMP:20260420T232227
CREATED:20250218T115146Z
LAST-MODIFIED:20250219T100113Z
UID:2629-1740596400-1740603600@thefrestonboot.co.uk
SUMMARY:Cinema Live - Les Misérables The Staged Concert Live (40th Anniversary)
DESCRIPTION:Cinema Live 2025 and The Freston Kino present: \nLes Misérables The Staged Concert Live (40th Anniversary)\nDirected by: Nick Morris\, James Powell & Jean-Pierre Van Der Spuy; Music by: Claude-Michel Schonberg;  Lyrics by: Alain Boublil and Jean Marc Natel (translated by Herbert Kretzmer) \nTo mark the 40th anniversary of the world’s most popular musical\, a unique opportunity to experience the spectacular staged concert version on the big screen featuring an all-star cast including Michael Ball\, Alfie Boe\, Carrie Hope Fletcher\, Matt Lucas and John Owen Jones.\n\n\nWith a cast and orchestra of over 65 and including the songs I Dreamed A Dream\, Bring Him Home\, One Day More and On My Own this sensational staged concert is not to be missed.”\n\n\n\n\n  \nTickets: \nAdult – £12.00 \nSenior or Junior – £10.00 \nWhy not try an experience of food and theatre\, 2 courses selected main and dessert\, a choice of selected drink and the presentation of Les Misérables – £35.00pp matinee / £38.00pp evening. Add a glass of Prosecco for £6.00pp
URL:https://thefrestonboot.co.uk/event/cinema-live-les-miserables-the-staged-concert-live-40th-anniversary/
ATTACH;FMTTYPE=image/png:https://thefrestonboot.co.uk/wp-content/uploads/2025/02/LesMis_DigitalPoster_1080x1080_UK.png
END:VEVENT
BEGIN:VEVENT
DTSTART;TZID=Europe/Paris:20241107T120000
DTEND;TZID=Europe/Paris:20241107T210000
DTSTAMP:20260420T232227
CREATED:20241105T151344Z
LAST-MODIFIED:20241105T151429Z
UID:2337-1730980800-1731013200@thefrestonboot.co.uk
SUMMARY:Thursday is Burgers
DESCRIPTION:Thursday is for our Burgers! \nOn Thursdays only enjoy one of our burgers and a selected drink for £18.50. \nEmail bookings@thefrestonboot.co.uk to book your table \n 
URL:https://thefrestonboot.co.uk/event/thursday-is-burgers/
ATTACH;FMTTYPE=image/png:https://thefrestonboot.co.uk/wp-content/uploads/2024/11/Pie-and-burger-deal-2.png
END:VEVENT
BEGIN:VEVENT
DTSTART;TZID=Europe/Paris:20250227T140000
DTEND;TZID=Europe/Paris:20250227T160000
DTSTAMP:20260420T232227
CREATED:20250124T180239Z
LAST-MODIFIED:20250124T180239Z
UID:2572-1740664800-1740672000@thefrestonboot.co.uk
SUMMARY:National Theatre Live - The Importance of being Earnest
DESCRIPTION:National Theatre Live 2025 and The Freston Kino present:\nThe Importance of being Earnest\nby Oscar Wilde\ndirected by Max Webster \nThree-time Olivier Award-winner Sharon D Clarke is joined by Ncuti Gatwa (Doctor Who;\nSex Education) in this joyful reimagining of Oscar Wilde’s most celebrated comedy. \nWhile assuming the role of a dutiful guardian in the country\, Jack lets loose in town under a\nfalse identity. Meanwhile\, his friend Algy adopts a similar facade. Hoping to impress two\neligible ladies\, the gentlemen find themselves caught in a web of lies they must carefully\nnavigate. Max Webster (Life of Pi) directs this hilarious story of identity\, impersonation and romance\,\nfilmed live from the National Theatre in London. \nTickets: \nAdult – £12.00 \nSenior or Junior – £10.00 \nWhy not try an experience of food and theatre\, 2 courses selected main and dessert\, a choice of selected drink and the presentation of The Importance of being Earnest – £35.00pp matinee / £38.00pp evening. Add a glass of Prosecco for £6.00pp
URL:https://thefrestonboot.co.uk/event/national-theatre-live-the-importance-of-being-earnest-5/
ATTACH;FMTTYPE=image/jpeg:https://thefrestonboot.co.uk/wp-content/uploads/2024/12/NTL-Importance-of-being-Earnest.jpg
END:VEVENT
BEGIN:VEVENT
DTSTART;TZID=Europe/Paris:20250227T190000
DTEND;TZID=Europe/Paris:20250227T210000
DTSTAMP:20260420T232227
CREATED:20250124T175958Z
LAST-MODIFIED:20250124T182143Z
UID:2566-1740682800-1740690000@thefrestonboot.co.uk
SUMMARY:National Theatre Live - The Importance of being Earnest
DESCRIPTION:National Theatre Live 2025 and The Freston Kino present:\nThe Importance of being Earnest\nby Oscar Wilde\ndirected by Max Webster \nThree-time Olivier Award-winner Sharon D Clarke is joined by Ncuti Gatwa (Doctor Who;\nSex Education) in this joyful reimagining of Oscar Wilde’s most celebrated comedy. \nWhile assuming the role of a dutiful guardian in the country\, Jack lets loose in town under a\nfalse identity. Meanwhile\, his friend Algy adopts a similar facade. Hoping to impress two\neligible ladies\, the gentlemen find themselves caught in a web of lies they must carefully\nnavigate. Max Webster (Life of Pi) directs this hilarious story of identity\, impersonation and romance\,\nfilmed live from the National Theatre in London. \nTickets: \nAdult – £12.00 \nSenior or Junior – £10.00 \nWhy not try an experience of food and theatre\, 2 courses selected main and dessert\, a choice of selected drink and the presentation of The Importance of being Earnest – £35.00pp matinee / £38.00pp evening. Add a glass of Prosecco for £6.00pp
URL:https://thefrestonboot.co.uk/event/national-theatre-live-the-importance-of-being-earnest-2/
ATTACH;FMTTYPE=image/jpeg:https://thefrestonboot.co.uk/wp-content/uploads/2024/12/NTL-Importance-of-being-Earnest.jpg
END:VEVENT
BEGIN:VEVENT
DTSTART;TZID=Europe/Paris:20250228T190000
DTEND;TZID=Europe/Paris:20250228T210000
DTSTAMP:20260420T232227
CREATED:20250218T115447Z
LAST-MODIFIED:20250219T100049Z
UID:2633-1740769200-1740776400@thefrestonboot.co.uk
SUMMARY:Cinema Live - Les Misérables The Staged Concert Live (40th Anniversary)
DESCRIPTION:Cinema Live 2025 and The Freston Kino present: \nLes Misérables The Staged Concert Live (40th Anniversary)\nDirected by: Nick Morris\, James Powell & Jean-Pierre Van Der Spuy; Music by: Claude-Michel Schonberg;  Lyrics by: Alain Boublil and Jean Marc Natel (translated by Herbert Kretzmer) \nTo mark the 40th anniversary of the world’s most popular musical\, a unique opportunity to experience the spectacular staged concert version on the big screen featuring an all-star cast including Michael Ball\, Alfie Boe\, Carrie Hope Fletcher\, Matt Lucas and John Owen Jones.\n\n\nWith a cast and orchestra of over 65 and including the songs I Dreamed A Dream\, Bring Him Home\, One Day More and On My Own this sensational staged concert is not to be missed.”\n\n\n\n\n  \nTickets: \nAdult – £12.00 \nSenior or Junior – £10.00 \nWhy not try an experience of food and theatre\, 2 courses selected main and dessert\, a choice of selected drink and the presentation of Les Misérables – £35.00pp matinee / £38.00pp evening. Add a glass of Prosecco for £6.00pp
URL:https://thefrestonboot.co.uk/event/cinema-live-les-miserables-the-staged-concert-live-40th-anniversary-3/
ATTACH;FMTTYPE=image/png:https://thefrestonboot.co.uk/wp-content/uploads/2025/02/LesMis_DigitalPoster_1080x1080_UK.png
END:VEVENT
BEGIN:VEVENT
DTSTART;TZID=Europe/Paris:20250302T180000
DTEND;TZID=Europe/Paris:20250302T200000
DTSTAMP:20260420T232227
CREATED:20250220T141634Z
LAST-MODIFIED:20250220T141634Z
UID:2641-1740938400-1740945600@thefrestonboot.co.uk
SUMMARY:Cinema Live - Jesus Christ Superstar: Live Arena Tour (2012)
DESCRIPTION:Cinema Live 2025 and The Freston Kino present: \nJesus Christ Superstar: Live Arena Tour (2012)\n\nDirected by: Laurence Connor; Music by: Andrew Lloyd Webber;  Written by: Tim Rice \nTim Rice and Andrew Lloyd Webber’s rock classic Jesus Christ Superstar returns to its roots with this sensational performance filmed in the UK during the Live Arena Tour. An incredible cast including Tim Minchin as Judas Iscariot\, Melanie Chisholm as Mary Magdalene\, Chris Moyles as King Herod and Ben Forster as Jesus Christ\,  perform hit songs including “I Don’t Know How to Love Him\,” “Gethsemane\,” “Heaven on Their Minds\,” “Everything’s Alright\,” “King Herod’s Song” and “Superstar” in an exciting and contemporary interpretation.\n  \nTickets: \nAdult – £12.00 \nSenior or Junior – £10.00 \nWhy not try an experience of food and theatre\, 2 courses selected main and dessert\, a choice of selected drink and the presentation of Jesus Christ Superstar – £35.00pp matinee / £38.00pp evening. Add a glass of Prosecco for £6.00pp
URL:https://thefrestonboot.co.uk/event/cinema-live-jesus-christ-superstar-live-arena-tour-2012/
ATTACH;FMTTYPE=image/png:https://thefrestonboot.co.uk/wp-content/uploads/2025/02/JesusChristSuperstar_DigitalPoster_1080x1080_UK.png
END:VEVENT
END:VCALENDAR